BEGIN:VCALENDAR
VERSION:2.0
PRODID:-//Sabre//Sabre VObject 4.5.8//EN
CALSCALE:GREGORIAN
BEGIN:VEVENT
UID:sabre-vobject-12a65070-553f-45fc-a01e-9b142c2e631a
DTSTAMP:20260425T173545Z
SUMMARY:Rosenkranz und Osterbeichtgelegenheit
DESCRIPTION:https://www2.bistum-augsburg.de/gottesdienste/rosenkranz-und-os
 terbeichtgelegenheit_id1720028
DTSTART;TZID=Europe/Berlin:20260503T080500
DURATION:PT30M
LOCATION:Mariä Heimsuchung
END:VEVENT
END:VCALENDAR
