BEGIN:VCALENDAR
VERSION:2.0
PRODID:-//Sabre//Sabre VObject 4.5.8//EN
CALSCALE:GREGORIAN
BEGIN:VEVENT
UID:sabre-vobject-5102e133-0c8a-437e-b2ba-a915768fff45
DTSTAMP:20260424T121400Z
SUMMARY:Heilige Messe für die Pfarrgemeinde
DESCRIPTION:https://www2.bistum-augsburg.de/gottesdienste/heilige-messe-fue
 r-die-pfarrgemeinde_id1720082
DTSTART;TZID=Europe/Berlin:20260510T090000
DURATION:PT30M
LOCATION:St. Adelgundis
END:VEVENT
END:VCALENDAR
