BEGIN:VCALENDAR
VERSION:2.0
PRODID:-//Sabre//Sabre VObject 4.5.8//EN
CALSCALE:GREGORIAN
BEGIN:VEVENT
UID:sabre-vobject-bcaf3397-8830-4459-b4d2-8853bb156352
DTSTAMP:20260424T111508Z
SUMMARY:Heilige Messe für die Pfarrgemeinde\nVAM zu Christi Himmelfahrt
DESCRIPTION:https://www2.bistum-augsburg.de/gottesdienste/heilige-messe-fue
 r-die-pfarrgemeinde-vam-zu-christi-himmelfahrt_id1720083
DTSTART;TZID=Europe/Berlin:20260513T180000
DURATION:PT30M
LOCATION:St. Adelgundis
END:VEVENT
END:VCALENDAR
