BEGIN:VCALENDAR
VERSION:2.0
PRODID:-//Sabre//Sabre VObject 4.5.8//EN
CALSCALE:GREGORIAN
BEGIN:VEVENT
UID:sabre-vobject-a919f3ee-c74f-4733-88c7-463393c23dcf
DTSTAMP:20260424T014434Z
SUMMARY:Maiandacht
DESCRIPTION:https://www2.bistum-augsburg.de/gottesdienste/maiandacht_id1720
 449
DTSTART;TZID=Europe/Berlin:20260514T190000
DURATION:PT30M
LOCATION:Zum Hlgst. Erlöser\, Wellenburger Str. 58\, 86199 Augsburg-Göggi
 ngen
END:VEVENT
END:VCALENDAR
