BEGIN:VCALENDAR
VERSION:2.0
PRODID:-//Sabre//Sabre VObject 4.5.8//EN
CALSCALE:GREGORIAN
BEGIN:VEVENT
UID:sabre-vobject-207f5376-a69c-4ec9-a025-4cd7b27df110
DTSTAMP:20260422T161107Z
SUMMARY:Pastoralratssitzung
DESCRIPTION:https://www2.bistum-augsburg.de/gottesdienste/pastoralratssitzu
 ng_id1720457
DTSTART;TZID=Europe/Berlin:20260422T193000
DURATION:PT30M
LOCATION:St. Michael\, Kirchstraße 12\, 87642 Halblech Bayerniederhofen
END:VEVENT
END:VCALENDAR
