BEGIN:VCALENDAR
VERSION:2.0
PRODID:-//Sabre//Sabre VObject 4.5.8//EN
CALSCALE:GREGORIAN
BEGIN:VEVENT
UID:sabre-vobject-7918c7a9-36c3-4ba6-a65c-7520d85ddc7f
DTSTAMP:20260419T190255Z
SUMMARY:Bibelteilen im Pfarrhof in Kellmünz - Herzliche Einladung
DESCRIPTION:https://www2.bistum-augsburg.de/gottesdienste/bibelteilen-im-pf
 arrhof-in-kellmuenz-herzliche-einladung_id1720470
DTSTART;TZID=Europe/Berlin:20260429T191500
DURATION:PT30M
LOCATION:St. Martin
END:VEVENT
END:VCALENDAR
