BEGIN:VCALENDAR
VERSION:2.0
PRODID:-//Sabre//Sabre VObject 4.5.8//EN
CALSCALE:GREGORIAN
BEGIN:VEVENT
UID:sabre-vobject-aaed304a-bbea-40ee-854a-fc68e1c5a560
DTSTAMP:20260419T224027Z
SUMMARY:Heilige Messe für die Lebenden und Verstorbenen unserer Pfarreien
DESCRIPTION:https://www2.bistum-augsburg.de/gottesdienste/heilige-messe-fue
 r-die-lebenden-und-verstorbenen-unserer-pfarreien_id1720649
DTSTART;TZID=Europe/Berlin:20260426T100000
DURATION:PT30M
LOCATION:Verklärung Christi\, Kirchenweg 3\, 85296 Rohrbach
END:VEVENT
END:VCALENDAR
