BEGIN:VCALENDAR
VERSION:2.0
PRODID:-//Sabre//Sabre VObject 4.5.8//EN
CALSCALE:GREGORIAN
BEGIN:VEVENT
UID:sabre-vobject-d365c99f-83a5-4b38-8678-aae1d80aa862
DTSTAMP:20260424T193151Z
SUMMARY:Ewige Anbetung
DESCRIPTION:https://www2.bistum-augsburg.de/gottesdienste/ewige-anbetung_id
 1720669
DTSTART;TZID=Europe/Berlin:20260510T133000
DURATION:PT30M
LOCATION:Verklärung Christi\, Kirchenweg 3\, 85296 Rohrbach
END:VEVENT
END:VCALENDAR
