BEGIN:VCALENDAR
VERSION:2.0
PRODID:-//Sabre//Sabre VObject 4.5.8//EN
CALSCALE:GREGORIAN
BEGIN:VEVENT
UID:sabre-vobject-bfd47c26-8f64-4705-ad3a-8a1ea932d47f
DTSTAMP:20260422T162555Z
SUMMARY:Bittgang nach Maria Vesperbild\, dort um 08.30 Uhr hl. Messe
DESCRIPTION:https://www2.bistum-augsburg.de/gottesdienste/bittgang-nach-mar
 ia-vesperbild-dort-um-08-30-uhr-hl-messe_id1720812
DTSTART;TZID=Europe/Berlin:20260501T063000
DURATION:PT30M
LOCATION:Mariä Himmelfahrt\, Hattenbergstraße 17\, 86424 Ried
END:VEVENT
END:VCALENDAR
