BEGIN:VCALENDAR
VERSION:2.0
PRODID:-//Sabre//Sabre VObject 4.5.8//EN
CALSCALE:GREGORIAN
BEGIN:VEVENT
UID:sabre-vobject-4f96c5b1-8063-4e4d-821b-9acea0505d8b
DTSTAMP:20260422T194238Z
SUMMARY:Georgi-Ritt mit Pferdesegnung
DESCRIPTION:https://www2.bistum-augsburg.de/gottesdienste/georgi-ritt-mit-p
 ferdesegnung_id1720862
DTSTART;TZID=Europe/Berlin:20260426T133000
DURATION:PT30M
LOCATION:Kuratie Maria Himmelfahrt\, Nantesbuch 1\, 82377 Nantesbuch
END:VEVENT
END:VCALENDAR
