BEGIN:VCALENDAR
VERSION:2.0
PRODID:-//Sabre//Sabre VObject 4.5.8//EN
CALSCALE:GREGORIAN
BEGIN:VEVENT
UID:sabre-vobject-95be7466-8884-4913-848a-f4ed1197a2d7
DTSTAMP:20260423T091617Z
SUMMARY:- 16.30 Uhr Eltern-Kind-Treff im Pfarrhof Hochwang
DESCRIPTION:https://www2.bistum-augsburg.de/gottesdienste/16-30-uhr-eltern-
 kind-treff-im-pfarrhof-hochwang_id1720882
DTSTART;TZID=Europe/Berlin:20260428T153000
DURATION:PT30M
LOCATION:Heilig Kreuz
END:VEVENT
END:VCALENDAR
