BEGIN:VCALENDAR
VERSION:2.0
PRODID:-//Sabre//Sabre VObject 4.5.8//EN
CALSCALE:GREGORIAN
BEGIN:VEVENT
UID:sabre-vobject-8925b32b-ecaf-4bd4-91c5-224ae5fd9b09
DTSTAMP:20260423T192332Z
SUMMARY:Dankgottesdienst der EK-Kinder
DESCRIPTION:https://www2.bistum-augsburg.de/gottesdienste/dankgottesdienst-
 der-ek-kinder_id1720939
DTSTART;TZID=Europe/Berlin:20260430T083000
DURATION:PT30M
LOCATION:St. Johannes Baptist\, Heinrich-Sinz-Straße 6\, 89335 Ichenhausen
END:VEVENT
END:VCALENDAR
