BEGIN:VCALENDAR
VERSION:2.0
PRODID:-//Sabre//Sabre VObject 4.5.8//EN
CALSCALE:GREGORIAN
BEGIN:VEVENT
UID:sabre-vobject-0812fd12-8e93-4571-a206-1e8d177ad4a2
DTSTAMP:20260420T074404Z
SUMMARY:Heilige Messe - Floriansmesse - vorher Rosenkranz
DESCRIPTION:https://www2.bistum-augsburg.de/gottesdienste/heilige-messe-flo
 riansmesse-vorher-rosenkranz_id1720949
DTSTART;TZID=Europe/Berlin:20260503T090000
DURATION:PT30M
LOCATION:St. Peter und Paul
END:VEVENT
END:VCALENDAR
