BEGIN:VCALENDAR
VERSION:2.0
PRODID:-//Sabre//Sabre VObject 4.5.8//EN
CALSCALE:GREGORIAN
BEGIN:VEVENT
UID:sabre-vobject-1e012a76-75e4-409b-be71-ac7f53ec63e4
DTSTAMP:20260422T155718Z
SUMMARY:Ökum. Friedensgebet in der Mariä Geburt Kirche Altenstadt am Fr. 
 24.04.2026
DESCRIPTION:https://www2.bistum-augsburg.de/gottesdienste/oekum-friedensgeb
 et-in-der-mariae-geburt-kirche-altenstadt-am-fr-24-04-2026_id1720950
DTSTART;TZID=Europe/Berlin:20260424T183000
DURATION:PT30M
LOCATION:Zum Guten Hirten
END:VEVENT
END:VCALENDAR
