BEGIN:VCALENDAR
VERSION:2.0
PRODID:-//Sabre//Sabre VObject 4.5.8//EN
CALSCALE:GREGORIAN
BEGIN:VEVENT
UID:sabre-vobject-f6e15634-11b7-4817-bc88-9e586eae54d8
DTSTAMP:20260423T125034Z
SUMMARY:Rosenkranz (i.d. Jakobskapelle)
DESCRIPTION:https://www2.bistum-augsburg.de/gottesdienste/rosenkranz-i-d-ja
 kobskapelle_id1720953
DTSTART;TZID=Europe/Berlin:20260428T170000
DURATION:PT30M
LOCATION:St. Martin
END:VEVENT
END:VCALENDAR
