BEGIN:VCALENDAR
VERSION:2.0
PRODID:-//Sabre//Sabre VObject 4.5.8//EN
CALSCALE:GREGORIAN
BEGIN:VEVENT
UID:sabre-vobject-5b8863fa-49e0-4c65-8f04-cf61708d31bd
DTSTAMP:20260422T122849Z
SUMMARY:Andacht
DESCRIPTION:https://www2.bistum-augsburg.de/gottesdienste/andacht_id1720960
DTSTART;TZID=Europe/Berlin:20260422T180000
DURATION:PT30M
LOCATION:St. Peter und Paul
END:VEVENT
END:VCALENDAR
