BEGIN:VCALENDAR
VERSION:2.0
PRODID:-//Sabre//Sabre VObject 4.5.8//EN
CALSCALE:GREGORIAN
BEGIN:VEVENT
UID:sabre-vobject-1bde743d-3fa3-47ed-9f54-818cc368e9be
DTSTAMP:20260422T155708Z
SUMMARY:Stricknachmittag im Frauenbundraum im Pfarrheim Altenstadt
DESCRIPTION:https://www2.bistum-augsburg.de/gottesdienste/stricknachmittag-
 im-frauenbundraum-im-pfarrheim-altenstadt_id1720972
DTSTART;TZID=Europe/Berlin:20260428T140000
DURATION:PT30M
LOCATION:Zum Guten Hirten
END:VEVENT
END:VCALENDAR
