BEGIN:VCALENDAR
VERSION:2.0
PRODID:-//Sabre//Sabre VObject 4.5.8//EN
CALSCALE:GREGORIAN
BEGIN:VEVENT
UID:sabre-vobject-65d0429c-3a16-4cac-9767-680832a10f19
DTSTAMP:20260422T155806Z
SUMMARY:Firmung: Bußgottesdienst und Beichtgelegenheit mit Pfarrer Kleinle
  in der Pfarrkirche Altenstadt
DESCRIPTION:https://www2.bistum-augsburg.de/gottesdienste/firmung-bussgotte
 sdienst-und-beichtgelegenheit-mit-pfarrer-kleinle-in-der-pfarrkirche-alten
 stadt_id1720991
DTSTART;TZID=Europe/Berlin:20260423T163000
DURATION:PT30M
LOCATION:Zum Guten Hirten
END:VEVENT
END:VCALENDAR
