BEGIN:VCALENDAR
VERSION:2.0
PRODID:-//Sabre//Sabre VObject 4.5.8//EN
CALSCALE:GREGORIAN
BEGIN:VEVENT
UID:sabre-vobject-706d294c-4c56-4a29-8b72-66a53f1eb99b
DTSTAMP:20260422T142411Z
SUMMARY:Heilige Messe - vorher Rosenkranz
DESCRIPTION:https://www2.bistum-augsburg.de/gottesdienste/heilige-messe-vor
 her-rosenkranz_id1721008
DTSTART;TZID=Europe/Berlin:20260502T183000
DURATION:PT30M
LOCATION:St. Martin
END:VEVENT
END:VCALENDAR
