BEGIN:VCALENDAR
VERSION:2.0
PRODID:-//Sabre//Sabre VObject 4.5.8//EN
CALSCALE:GREGORIAN
BEGIN:VEVENT
UID:sabre-vobject-9259e249-d655-4ff0-9f1e-d382f8ab6b17
DTSTAMP:20260424T154148Z
SUMMARY:Rosenkranz
DESCRIPTION:https://www2.bistum-augsburg.de/gottesdienste/rosenkranz_id1721
 179
DTSTART;TZID=Europe/Berlin:20260424T183000
DURATION:PT30M
LOCATION:Mariä Himmelfahrt\, Hattenbergstraße 17\, 86424 Ried
END:VEVENT
END:VCALENDAR
