BEGIN:VCALENDAR
VERSION:2.0
PRODID:-//Sabre//Sabre VObject 4.5.8//EN
CALSCALE:GREGORIAN
BEGIN:VEVENT
UID:sabre-vobject-a2c4414e-6c34-457f-a6a1-5a4a1c278120
DTSTAMP:20260419T225253Z
SUMMARY:Hl. Messe
DESCRIPTION:https://www2.bistum-augsburg.de/gottesdienste/hl-messe_id172129
 2
DTSTART;TZID=Europe/Berlin:20260422T093000
DURATION:PT30M
LOCATION:Augsburger Dom Hlgst. Herz Jesu\, Frauentorstraße 1\, 86152 Augsb
 urg-Dom
END:VEVENT
END:VCALENDAR
