BEGIN:VCALENDAR
VERSION:2.0
PRODID:-//Sabre//Sabre VObject 4.5.8//EN
CALSCALE:GREGORIAN
BEGIN:VEVENT
UID:sabre-vobject-92ad5603-5651-4aad-a9aa-c168f1aab7e6
DTSTAMP:20260425T202801Z
SUMMARY:Kapitelamt
DESCRIPTION:https://www2.bistum-augsburg.de/gottesdienste/kapitelamt_id1721
 312
DTSTART;TZID=Europe/Berlin:20260426T090000
DURATION:PT30M
LOCATION:Augsburger Dom Hlgst. Herz Jesu\, Frauentorstraße 1\, 86152 Augsb
 urg-Dom
END:VEVENT
END:VCALENDAR
