BEGIN:VCALENDAR
VERSION:2.0
PRODID:-//Sabre//Sabre VObject 4.5.8//EN
CALSCALE:GREGORIAN
BEGIN:VEVENT
UID:sabre-vobject-319d1124-457d-434a-a4b8-9f0014956cae
DTSTAMP:20260425T234209Z
SUMMARY:Erste Feierliche Maiandacht mit Bischof Dr. Bertram Meier
DESCRIPTION:https://www2.bistum-augsburg.de/gottesdienste/erste-feierliche-
 maiandacht-mit-bischof-dr-bertram-meier_id1721347
DTSTART;TZID=Europe/Berlin:20260501T190000
DURATION:PT30M
LOCATION:Augsburger Dom Hlgst. Herz Jesu\, Frauentorstraße 1\, 86152 Augsb
 urg-Dom
END:VEVENT
END:VCALENDAR
