BEGIN:VCALENDAR
VERSION:2.0
PRODID:-//Sabre//Sabre VObject 4.5.8//EN
CALSCALE:GREGORIAN
BEGIN:VEVENT
UID:sabre-vobject-5c6a427d-3b68-4a32-80bc-f4013b5dc2c7
DTSTAMP:20260423T192356Z
SUMMARY:Beichtgelegenheit
DESCRIPTION:https://www2.bistum-augsburg.de/gottesdienste/beichtgelegenheit
 _id1721370
DTSTART;TZID=Europe/Berlin:20260507T163000
DURATION:PT30M
LOCATION:Augsburger Dom Hlgst. Herz Jesu\, Frauentorstraße 1\, 86152 Augsb
 urg-Dom
END:VEVENT
END:VCALENDAR
