BEGIN:VCALENDAR
VERSION:2.0
PRODID:-//Sabre//Sabre VObject 4.5.8//EN
CALSCALE:GREGORIAN
BEGIN:VEVENT
UID:sabre-vobject-625eece6-1a98-4e3b-abc5-280d59149745
DTSTAMP:20260424T163820Z
SUMMARY:Rosenkranz
DESCRIPTION:https://www2.bistum-augsburg.de/gottesdienste/rosenkranz_id1721
 391
DTSTART;TZID=Europe/Berlin:20260531T092500
DURATION:PT30M
LOCATION:St. Andreas
END:VEVENT
END:VCALENDAR
