BEGIN:VCALENDAR
VERSION:2.0
PRODID:-//Sabre//Sabre VObject 4.5.8//EN
CALSCALE:GREGORIAN
BEGIN:VEVENT
UID:sabre-vobject-b70271c9-c187-403c-8780-13c7e7fc163c
DTSTAMP:20260425T200607Z
SUMMARY:Floriansmesse
DESCRIPTION:https://www2.bistum-augsburg.de/gottesdienste/floriansmesse_id1
 721408
DTSTART;TZID=Europe/Berlin:20260503T083000
DURATION:PT30M
LOCATION:St. Ursus
END:VEVENT
END:VCALENDAR
