BEGIN:VCALENDAR
VERSION:2.0
PRODID:-//Sabre//Sabre VObject 4.5.8//EN
CALSCALE:GREGORIAN
BEGIN:VEVENT
UID:sabre-vobject-4a8d5d1b-4348-4fe2-98e4-cf7a58b4e48b
DTSTAMP:20260424T203320Z
SUMMARY:Taufe Lilli Veronika Hedwig Burger
DESCRIPTION:https://www2.bistum-augsburg.de/gottesdienste/taufe-lilli-veron
 ika-hedwig-burger_id1721417
DTSTART;TZID=Europe/Berlin:20260509T110000
DURATION:PT30M
LOCATION:Kuratie St. Laurentius
END:VEVENT
END:VCALENDAR
