BEGIN:VCALENDAR
VERSION:2.0
PRODID:-//Sabre//Sabre VObject 4.5.8//EN
CALSCALE:GREGORIAN
BEGIN:VEVENT
UID:sabre-vobject-e200dd69-3b85-4983-81bb-321b21997d1f
DTSTAMP:20260425T175749Z
SUMMARY:Bittgang nach Kirchhaslach
DESCRIPTION:https://www2.bistum-augsburg.de/gottesdienste/bittgang-nach-kir
 chhaslach_id1721421
DTSTART;TZID=Europe/Berlin:20260511T185000
DURATION:PT30M
LOCATION:Kuratie St. Laurentius
END:VEVENT
END:VCALENDAR
