BEGIN:VCALENDAR
VERSION:2.0
PRODID:-//Sabre//Sabre VObject 4.5.8//EN
CALSCALE:GREGORIAN
BEGIN:VEVENT
UID:sabre-vobject-95a1a67c-40a2-4281-9fd5-81f81f0adade
DTSTAMP:20260424T132624Z
SUMMARY:Feier der Erstkommunion
DESCRIPTION:https://www2.bistum-augsburg.de/gottesdienste/feier-der-erstkom
 munion_id1721424
DTSTART;TZID=Europe/Berlin:20260517T100000
DURATION:PT30M
LOCATION:Kuratie St. Laurentius
END:VEVENT
END:VCALENDAR
