BEGIN:VCALENDAR
VERSION:2.0
PRODID:-//Sabre//Sabre VObject 4.5.8//EN
CALSCALE:GREGORIAN
BEGIN:VEVENT
UID:sabre-vobject-307179d8-15d2-4d2b-8cfd-ea2485484039
DTSTAMP:20260425T031054Z
SUMMARY:Maiandacht d. PGR im Winterchor
DESCRIPTION:https://www2.bistum-augsburg.de/gottesdienste/maiandacht-d-pgr-
 im-winterchor_id1721425
DTSTART;TZID=Europe/Berlin:20260510T100000
DURATION:PT30M
LOCATION:St. Ursus
END:VEVENT
END:VCALENDAR
