BEGIN:VCALENDAR
VERSION:2.0
PRODID:-//Sabre//Sabre VObject 4.5.8//EN
CALSCALE:GREGORIAN
BEGIN:VEVENT
UID:sabre-vobject-10b0b265-183f-4f1a-857c-f96592c90e00
DTSTAMP:20260423T185032Z
SUMMARY:Rosenkranz
DESCRIPTION:https://www2.bistum-augsburg.de/gottesdienste/rosenkranz_id1721
 442
DTSTART;TZID=Europe/Berlin:20260507T172500
DURATION:PT30M
LOCATION:St. Andreas
END:VEVENT
END:VCALENDAR
