BEGIN:VCALENDAR
VERSION:2.0
PRODID:-//Sabre//Sabre VObject 4.5.8//EN
CALSCALE:GREGORIAN
BEGIN:VEVENT
UID:sabre-vobject-ba27f6e0-e7c9-4d39-80eb-469b8f100171
DTSTAMP:20260425T012457Z
SUMMARY:Heilige Messe
DESCRIPTION:https://www2.bistum-augsburg.de/gottesdienste/heilige-messe_id1
 721459
DTSTART;TZID=Europe/Berlin:20260523T191500
DURATION:PT30M
LOCATION:Kuratie St. Sebastian\, Egnishausen 27\, 87727 Egg an der Günz
END:VEVENT
END:VCALENDAR
