BEGIN:VCALENDAR
VERSION:2.0
PRODID:-//Sabre//Sabre VObject 4.5.8//EN
CALSCALE:GREGORIAN
BEGIN:VEVENT
UID:sabre-vobject-76a67fe5-4946-4cc0-8979-60591f5b227c
DTSTAMP:20260423T110753Z
SUMMARY:Maiandacht
DESCRIPTION:https://www2.bistum-augsburg.de/gottesdienste/maiandacht_id1721
 491
DTSTART;TZID=Europe/Berlin:20260506T140000
DURATION:PT30M
LOCATION:St. Ulrich
END:VEVENT
END:VCALENDAR
