BEGIN:VCALENDAR
VERSION:2.0
PRODID:-//Sabre//Sabre VObject 4.5.8//EN
CALSCALE:GREGORIAN
BEGIN:VEVENT
UID:sabre-vobject-224d274e-0f1f-44d9-83d6-51c1d1cc8b69
DTSTAMP:20260424T003636Z
SUMMARY:Probe zur Erstkommunion
DESCRIPTION:https://www2.bistum-augsburg.de/gottesdienste/probe-zur-erstkom
 munion_id1721492
DTSTART;TZID=Europe/Berlin:20260507T160000
DURATION:PT30M
LOCATION:St. Ulrich
END:VEVENT
END:VCALENDAR
