BEGIN:VCALENDAR
VERSION:2.0
PRODID:-//Sabre//Sabre VObject 4.5.8//EN
CALSCALE:GREGORIAN
BEGIN:VEVENT
UID:sabre-vobject-498280ac-f18e-44ba-8ec5-b725353101bb
DTSTAMP:20260424T033228Z
SUMMARY:Pfarrersprechstunde im Pfarrhof
DESCRIPTION:https://www2.bistum-augsburg.de/gottesdienste/pfarrersprechstun
 de-im-pfarrhof_id1721521
DTSTART;TZID=Europe/Berlin:20260519T160000
DURATION:PT30M
LOCATION:St. Andreas
END:VEVENT
END:VCALENDAR
