BEGIN:VCALENDAR
VERSION:2.0
PRODID:-//Sabre//Sabre VObject 4.5.8//EN
CALSCALE:GREGORIAN
BEGIN:VEVENT
UID:sabre-vobject-bcb1691f-68c3-4785-ab90-38affc897d60
DTSTAMP:20260424T210705Z
SUMMARY:Rosenkranz
DESCRIPTION:https://www2.bistum-augsburg.de/gottesdienste/rosenkranz_id1721
 542
DTSTART;TZID=Europe/Berlin:20260522T170000
DURATION:PT30M
LOCATION:St. Andreas
END:VEVENT
END:VCALENDAR
