BEGIN:VCALENDAR
VERSION:2.0
PRODID:-//Sabre//Sabre VObject 4.5.8//EN
CALSCALE:GREGORIAN
BEGIN:VEVENT
UID:sabre-vobject-7d723982-e8eb-46f4-966a-36f49f78c130
DTSTAMP:20260423T003210Z
SUMMARY:Pfarrersprechstunde im Pfarrhof
DESCRIPTION:https://www2.bistum-augsburg.de/gottesdienste/pfarrersprechstun
 de-im-pfarrhof_id1721549
DTSTART;TZID=Europe/Berlin:20260428T160000
DURATION:PT30M
LOCATION:St. Andreas
END:VEVENT
END:VCALENDAR
