BEGIN:VCALENDAR
VERSION:2.0
PRODID:-//Sabre//Sabre VObject 4.5.8//EN
CALSCALE:GREGORIAN
BEGIN:VEVENT
UID:sabre-vobject-f82a223c-98fa-41a8-995d-31cc9b6420f4
DTSTAMP:20260425T031034Z
SUMMARY:Heilige Messe
DESCRIPTION:https://www2.bistum-augsburg.de/gottesdienste/heilige-messe_id1
 721551
DTSTART;TZID=Europe/Berlin:20260429T083000
DURATION:PT30M
LOCATION:St. Andreas
END:VEVENT
END:VCALENDAR
