BEGIN:VCALENDAR
VERSION:2.0
PRODID:-//Sabre//Sabre VObject 4.5.8//EN
CALSCALE:GREGORIAN
BEGIN:VEVENT
UID:sabre-vobject-c6ab8dde-3d49-4a14-9e62-0af248aa02f1
DTSTAMP:20260424T203059Z
SUMMARY:Marienandacht i. d. Osterzeit
DESCRIPTION:https://www2.bistum-augsburg.de/gottesdienste/marienandacht-i-d
 -osterzeit_id1721563
DTSTART;TZID=Europe/Berlin:20260510T193000
DURATION:PT30M
LOCATION:Kuratie St. Sebastian\, Egnishausen 27\, 87727 Egg an der Günz
END:VEVENT
END:VCALENDAR
