BEGIN:VCALENDAR
VERSION:2.0
PRODID:-//Sabre//Sabre VObject 4.5.8//EN
CALSCALE:GREGORIAN
BEGIN:VEVENT
UID:sabre-vobject-48070142-2de9-4c58-9673-fbee342557c5
DTSTAMP:20260425T161204Z
SUMMARY:Rosenkranz
DESCRIPTION:https://www2.bistum-augsburg.de/gottesdienste/rosenkranz_id1721
 564
DTSTART;TZID=Europe/Berlin:20260526T170000
DURATION:PT30M
LOCATION:St. Andreas
END:VEVENT
END:VCALENDAR
