BEGIN:VCALENDAR
VERSION:2.0
PRODID:-//Sabre//Sabre VObject 4.5.8//EN
CALSCALE:GREGORIAN
BEGIN:VEVENT
UID:sabre-vobject-a700d1ba-886e-48b8-8716-f845d10e2870
DTSTAMP:20260424T015534Z
SUMMARY:Rosenkranz
DESCRIPTION:https://www2.bistum-augsburg.de/gottesdienste/rosenkranz_id1721
 569
DTSTART;TZID=Europe/Berlin:20260529T170000
DURATION:PT30M
LOCATION:St. Andreas
END:VEVENT
END:VCALENDAR
