BEGIN:VCALENDAR
VERSION:2.0
PRODID:-//Sabre//Sabre VObject 4.5.8//EN
CALSCALE:GREGORIAN
BEGIN:VEVENT
UID:sabre-vobject-1bd5d77e-04bd-4438-9945-64532672fae3
DTSTAMP:20260425T153126Z
SUMMARY:Bittgang nach Weinried\, anschließend Bittmesse
DESCRIPTION:https://www2.bistum-augsburg.de/gottesdienste/bittgang-nach-wei
 nried-anschliessend-bittmesse_id1721595
DTSTART;TZID=Europe/Berlin:20260512T190000
DURATION:PT30M
LOCATION:Mariä Himmelfahrt
END:VEVENT
END:VCALENDAR
