BEGIN:VCALENDAR
VERSION:2.0
PRODID:-//Sabre//Sabre VObject 4.5.8//EN
CALSCALE:GREGORIAN
BEGIN:VEVENT
UID:sabre-vobject-ce480dd8-4d14-469e-a7c1-a46061a44781
DTSTAMP:20260425T210048Z
SUMMARY:Maiandacht d. Kirchenchor u. PGR
DESCRIPTION:https://www2.bistum-augsburg.de/gottesdienste/maiandacht-d-kirc
 henchor-u-pgr_id1721604
DTSTART;TZID=Europe/Berlin:20260517T180000
DURATION:PT30M
LOCATION:Mariä Himmelfahrt
END:VEVENT
END:VCALENDAR
