BEGIN:VCALENDAR
VERSION:2.0
PRODID:-//Sabre//Sabre VObject 4.5.8//EN
CALSCALE:GREGORIAN
BEGIN:VEVENT
UID:sabre-vobject-63f80913-cc61-42ab-bb25-ad21b0683538
DTSTAMP:20260424T060754Z
SUMMARY:Maiandacht a.d. Lourdes Grotte m. d. Tischharfengrotte
DESCRIPTION:https://www2.bistum-augsburg.de/gottesdienste/maiandacht-a-d-lo
 urdes-grotte-m-d-tischharfengrotte_id1721609
DTSTART;TZID=Europe/Berlin:20260521T180000
DURATION:PT30M
LOCATION:Mariä Himmelfahrt
END:VEVENT
END:VCALENDAR
