BEGIN:VCALENDAR
VERSION:2.0
PRODID:-//Sabre//Sabre VObject 4.5.8//EN
CALSCALE:GREGORIAN
BEGIN:VEVENT
UID:sabre-vobject-4bacf981-048c-4c24-abb5-dd35f46f8ab0
DTSTAMP:20260424T091753Z
SUMMARY:Mairosenkranz
DESCRIPTION:https://www2.bistum-augsburg.de/gottesdienste/mairosenkranz_id1
 721617
DTSTART;TZID=Europe/Berlin:20260527T180000
DURATION:PT30M
LOCATION:Mariä Himmelfahrt
END:VEVENT
END:VCALENDAR
