BEGIN:VCALENDAR
VERSION:2.0
PRODID:-//Sabre//Sabre VObject 4.5.8//EN
CALSCALE:GREGORIAN
BEGIN:VEVENT
UID:sabre-vobject-0d895cb2-4562-4a6b-ac81-5f6ad90c4d86
DTSTAMP:20260424T155420Z
SUMMARY:Trauung Katharina Brauchle u. Markus Ries
DESCRIPTION:https://www2.bistum-augsburg.de/gottesdienste/trauung-katharina
 -brauchle-u-markus-ries_id1721618
DTSTART;TZID=Europe/Berlin:20260530T140000
DURATION:PT30M
LOCATION:Mariä Himmelfahrt
END:VEVENT
END:VCALENDAR
