BEGIN:VCALENDAR
VERSION:2.0
PRODID:-//Sabre//Sabre VObject 4.5.8//EN
CALSCALE:GREGORIAN
BEGIN:VEVENT
UID:sabre-vobject-bbd7ba1d-b438-4a4d-8442-6fc3c3e2f43d
DTSTAMP:20260421T061401Z
SUMMARY:Taufe Moritz Lecheler
DESCRIPTION:https://www2.bistum-augsburg.de/gottesdienste/taufe-moritz-lech
 eler_id1721688
DTSTART;TZID=Europe/Berlin:20260502T110000
DURATION:PT30M
LOCATION:St. Michael
END:VEVENT
END:VCALENDAR
