BEGIN:VCALENDAR
VERSION:2.0
PRODID:-//Sabre//Sabre VObject 4.5.8//EN
CALSCALE:GREGORIAN
BEGIN:VEVENT
UID:sabre-vobject-c96f6142-bf9f-4ef4-86a4-5cede47942b6
DTSTAMP:20260425T040411Z
SUMMARY:Maiandacht der Brauchtumsfreunde u. PGR\,  bei schlechter Witterung
  i. d. Kirche\, im Anschluss Kaffee u. Kuchen
DESCRIPTION:https://www2.bistum-augsburg.de/gottesdienste/maiandacht-der-br
 auchtumsfreunde-u-pgr-bei-schlechter-witterung-i-d-kirche-im-anschluss-kaf
 fee-u-kuchen_id1721702
DTSTART;TZID=Europe/Berlin:20260517T140000
DURATION:PT30M
LOCATION:Kuratie St. Leonhard
END:VEVENT
END:VCALENDAR
