BEGIN:VCALENDAR
VERSION:2.0
PRODID:-//Sabre//Sabre VObject 4.5.8//EN
CALSCALE:GREGORIAN
BEGIN:VEVENT
UID:sabre-vobject-7e547511-5774-4845-9fa3-322fbb6fb087
DTSTAMP:20260424T161623Z
SUMMARY:Bittgang zur Bruder-Konrad Kapelle\, Treffpunkt Tennisheim
DESCRIPTION:https://www2.bistum-augsburg.de/gottesdienste/bittgang-zur-brud
 er-konrad-kapelle-treffpunkt-tennisheim_id1721715
DTSTART;TZID=Europe/Berlin:20260511T180000
DURATION:PT30M
LOCATION:St. Michael
END:VEVENT
END:VCALENDAR
