BEGIN:VCALENDAR
VERSION:2.0
PRODID:-//Sabre//Sabre VObject 4.5.8//EN
CALSCALE:GREGORIAN
BEGIN:VEVENT
UID:sabre-vobject-3931fcf7-5d10-47b7-8224-762f3d256a68
DTSTAMP:20260423T204915Z
SUMMARY:Heilige Messe
DESCRIPTION:https://www2.bistum-augsburg.de/gottesdienste/heilige-messe_id1
 721718
DTSTART;TZID=Europe/Berlin:20260521T083000
DURATION:PT30M
LOCATION:St. Michael
END:VEVENT
END:VCALENDAR
